BEGIN:VCALENDAR
VERSION:2.0
PRODID:-//Tobacco Free Amarillo - ECPv4.6.11.1//NONSGML v1.0//EN
CALSCALE:GREGORIAN
METHOD:PUBLISH
X-WR-CALNAME:Tobacco Free Amarillo
X-ORIGINAL-URL:https://www.tobaccofreeamarillo.com
X-WR-CALDESC:Events for Tobacco Free Amarillo
BEGIN:VEVENT
DTSTART;TZID=America/Chicago:20190711T110000
DTEND;TZID=America/Chicago:20190711T120000
DTSTAMP:20260423T082546
CREATED:20190103T152459Z
LAST-MODIFIED:20190103T153345Z
UID:2747-1562842800-1562846400@www.tobaccofreeamarillo.com
SUMMARY:FREE Smoking/Tobacco Cessation Classes
DESCRIPTION: \nRHN in partnership with Tobacco Free Amarillo is offering Tobacco Cessation Programs all year long. \nThe program is a series of four\, one-hour classes offered. Pick your quit date and join one of our programs. Must attend all four classes on Thursdays and Fridays for two weeks to receive FREE Nicotine Replacement Therapy products. \nQuestions? Contact Joseph at 374-7341 ext. 2048 \nYou may come for refresher classes at any time. \n\n\n	Related\n
URL:https://www.tobaccofreeamarillo.com/event/2747/
LOCATION:3113 Ross St.\, Amarillo\, TX\, 79103\, United States
END:VEVENT
END:VCALENDAR