BEGIN:VCALENDAR
VERSION:2.0
PRODID:-//Tobacco Free Amarillo - ECPv4.6.11.1//NONSGML v1.0//EN
CALSCALE:GREGORIAN
METHOD:PUBLISH
X-WR-CALNAME:Tobacco Free Amarillo
X-ORIGINAL-URL:https://www.tobaccofreeamarillo.com
X-WR-CALDESC:Events for Tobacco Free Amarillo
BEGIN:VEVENT
DTSTART;TZID=America/Chicago:20190114T183000
DTEND;TZID=America/Chicago:20190114T210000
DTSTAMP:20260423T174600
CREATED:20190103T193147Z
LAST-MODIFIED:20190103T193147Z
UID:2782-1547490600-1547499600@www.tobaccofreeamarillo.com
SUMMARY:Amarillo College Freedom from Tobacco
DESCRIPTION: \nThe Freedom From Tobacco course at Amarillo College is a 2-session\, 5-hour course offered on Monday and Wednesday evening. Participants must attend both sessions to receive a free starter supply of nicotine replacement therapy products (patches\, gum\, lozenges). \n\n\n	Related\n
URL:https://www.tobaccofreeamarillo.com/event/amarillo-college-freedom-from-tobacco-18/
LOCATION:6222 W. 9th Ave\, Building C\, Room 101\, Amarillo\, TX\, 79106\, United States
ORGANIZER;CN="Raul%20Dominguez":MAILTO:rdominguez@actx.edu
END:VEVENT
END:VCALENDAR