BEGIN:VCALENDAR
VERSION:2.0
PRODID:-//Tobacco Free Amarillo - ECPv4.6.11.1//NONSGML v1.0//EN
CALSCALE:GREGORIAN
METHOD:PUBLISH
X-WR-CALNAME:Tobacco Free Amarillo
X-ORIGINAL-URL:https://www.tobaccofreeamarillo.com
X-WR-CALDESC:Events for Tobacco Free Amarillo
BEGIN:VEVENT
DTSTART;TZID=America/Chicago:20180913T110000
DTEND;TZID=America/Chicago:20180913T120000
DTSTAMP:20260423T232254
CREATED:20171005T171646Z
LAST-MODIFIED:20171005T171646Z
UID:2110-1536836400-1536840000@www.tobaccofreeamarillo.com
SUMMARY:Regence Tobacco Cessation Program
DESCRIPTION: \nTobacco Cessation Program at Regence Health Network includes 4 classes specifically designed to help the consumer learn the skills needed to successfully quit tobacco products. Participants that complete all 4 classes will be eligible to receive Nicotine Replacement Therapy (NRT) at no cost. \n \n\n\n	Related\n
URL:https://www.tobaccofreeamarillo.com/event/regence-tobacco-cessation-program-13/
LOCATION:3113 Ross St.\, Amarillo\, TX\, 79103\, United States
END:VEVENT
END:VCALENDAR