BEGIN:VCALENDAR
VERSION:2.0
PRODID:-//Tobacco Free Amarillo - ECPv4.6.11.1//NONSGML v1.0//EN
CALSCALE:GREGORIAN
METHOD:PUBLISH
X-WR-CALNAME:Tobacco Free Amarillo
X-ORIGINAL-URL:https://www.tobaccofreeamarillo.com
X-WR-CALDESC:Events for Tobacco Free Amarillo
BEGIN:VEVENT
DTSTART;TZID=America/Chicago:20170112T110000
DTEND;TZID=America/Chicago:20170112T120000
DTSTAMP:20260425T035204
CREATED:20170109T215907Z
LAST-MODIFIED:20170117T213420Z
UID:1877-1484218800-1484222400@www.tobaccofreeamarillo.com
SUMMARY:Regence Tobacco Cessation Program
DESCRIPTION:Tobacco Cessation Program at Regence Health Network includes 4 classes specifically designed to help the consumer learn the skills needed to successfully quit tobacco products. Participants that complete all 4 classes will be eligible to receive Nicotine Replacement Therapy (NRT) at no cost. \n\n\n	Related\n
URL:https://www.tobaccofreeamarillo.com/event/regence-tobacco-cessation-program/
LOCATION:3113 Ross St.\, Amarillo\, TX\, 79103\, United States
ATTACH;FMTTYPE=image/png:https://www.tobaccofreeamarillo.com/wp-content/uploads/2017/01/RHN-front.png
END:VEVENT
END:VCALENDAR