BEGIN:VCALENDAR
VERSION:2.0
PRODID:-//Tobacco Free Amarillo - ECPv4.6.11.1//NONSGML v1.0//EN
CALSCALE:GREGORIAN
METHOD:PUBLISH
X-WR-CALNAME:Tobacco Free Amarillo
X-ORIGINAL-URL:https://www.tobaccofreeamarillo.com
X-WR-CALDESC:Events for Tobacco Free Amarillo
BEGIN:VEVENT
DTSTART;TZID=America/Chicago:20191105T143000
DTEND;TZID=America/Chicago:20191105T160000
DTSTAMP:20260423T033112
CREATED:20190103T161952Z
LAST-MODIFIED:20190827T163458Z
UID:2775-1572964200-1572969600@www.tobaccofreeamarillo.com
SUMMARY:TOBACCO FREE LIFE!
DESCRIPTION:  \nThis location has been temporarily canceled. Please check our calendar for other locations or future classes held at this location. You DO NOT have to be a J.O. Wyatt Client client to attend. \n\n\n	Related\n
URL:https://www.tobaccofreeamarillo.com/event/tobacco-free-life-11/
LOCATION:1411 Amarillo Blvd.\, Amarillo\, TX\, 79107\, United States
END:VEVENT
END:VCALENDAR