BEGIN:VCALENDAR
VERSION:2.0
PRODID:-//Tobacco Free Amarillo - ECPv4.6.11.1//NONSGML v1.0//EN
CALSCALE:GREGORIAN
METHOD:PUBLISH
X-WR-CALNAME:Tobacco Free Amarillo
X-ORIGINAL-URL:https://www.tobaccofreeamarillo.com
X-WR-CALDESC:Events for Tobacco Free Amarillo
BEGIN:VEVENT
DTSTART;TZID=America/Chicago:20200407T173000
DTEND;TZID=America/Chicago:20200407T190000
DTSTAMP:20260422T223926
CREATED:20191210T171925Z
LAST-MODIFIED:20200326T142544Z
UID:3073-1586280600-1586286000@www.tobaccofreeamarillo.com
SUMMARY:TOBACCO FREE LIFE!
DESCRIPTION:\nYou FEEL BETTER\nYou have BETTER HEALTH\nYou have MORE MONEY\, TIME\nand the Whole World Breathes Better!!!\n\nFREE CLASSES\nReservations are not necessary: Just show up and bring your friends.  Classes are open to the public. \n\nMust attend both classes: The second class will be held the following Tuesday at the same time and location.\n\nFREE THERAPY PACKETS\nYou will be given your first packet at the end of the second class.  It may contain nicotine patches\, nicotine lozenges\, OR nicotine gum which are just for you to use with the correct strength to help diminish your cravings. \nA person from the Tobacco Free Amarillo program will call you during the first few weeks of the next month to check on your progress.   In order to receive a refill packet of nicotine replacement products\, you need to talk to the person calling or return their call.  No call = no refills. \n\n\n	Related\n
URL:https://www.tobaccofreeamarillo.com/event/tobacco-free-life-22/
LOCATION:1000 Martin Rd.\, Amarillo\, TX\, 79107\, United States
END:VEVENT
END:VCALENDAR