BEGIN:VCALENDAR
VERSION:2.0
PRODID:-//Tobacco Free Amarillo - ECPv4.6.11.1//NONSGML v1.0//EN
CALSCALE:GREGORIAN
METHOD:PUBLISH
X-WR-CALNAME:Tobacco Free Amarillo
X-ORIGINAL-URL:https://www.tobaccofreeamarillo.com
X-WR-CALDESC:Events for Tobacco Free Amarillo
BEGIN:VEVENT
DTSTART;TZID=America/Chicago:20190514T143000
DTEND;TZID=America/Chicago:20190514T160000
DTSTAMP:20260423T113405
CREATED:20190103T160021Z
LAST-MODIFIED:20190103T160021Z
UID:2763-1557844200-1557849600@www.tobaccofreeamarillo.com
SUMMARY:TOBACCO FREE LIFE!
DESCRIPTION: \nFREE PRODUCTS – when you complete two TOBACCO CESSATION Classes. Reservations are not necessary\, just show up and bring your friends. Classes are opened to the public – they DO NOT have to be J.O. Wyatt Clients. \nYou may come for refresher classes at any time. \nPARKING: Urgent Care Parking Lot on the United Grocery side of our building and enter through the Urgent Care Entrance. \n  \n\n\n	Related\n
URL:https://www.tobaccofreeamarillo.com/event/tobacco-free-life-5/
LOCATION:1411 Amarillo Blvd.\, Amarillo\, TX\, 79107\, United States
END:VEVENT
END:VCALENDAR