BEGIN:VCALENDAR
VERSION:2.0
PRODID:-//Tobacco Free Amarillo - ECPv4.6.11.1//NONSGML v1.0//EN
CALSCALE:GREGORIAN
METHOD:PUBLISH
X-WR-CALNAME:Tobacco Free Amarillo
X-ORIGINAL-URL:https://www.tobaccofreeamarillo.com
X-WR-CALDESC:Events for Tobacco Free Amarillo
BEGIN:VEVENT
DTSTART;TZID=America/Chicago:20190910T143000
DTEND;TZID=America/Chicago:20190910T160000
DTSTAMP:20260423T060204
CREATED:20190103T161630Z
LAST-MODIFIED:20190827T161254Z
UID:2771-1568125800-1568131200@www.tobaccofreeamarillo.com
SUMMARY:TOBACCO FREE LIFE!
DESCRIPTION: \nThis location has been temporarily CANCELLED. Please check back for future classes at J.O. Wyatt. You DO NOT have to be J.O. Wyatt Clients. \n\n  \n\n\n	Related\n
URL:https://www.tobaccofreeamarillo.com/event/tobacco-free-life-9/
LOCATION:1411 Amarillo Blvd.\, Amarillo\, TX\, 79107\, United States
END:VEVENT
END:VCALENDAR