BEGIN:VCALENDAR
VERSION:2.0
PRODID:-//Tobacco Free Amarillo - ECPv4.6.11.1//NONSGML v1.0//EN
CALSCALE:GREGORIAN
METHOD:PUBLISH
X-WR-CALNAME:Tobacco Free Amarillo
X-ORIGINAL-URL:https://www.tobaccofreeamarillo.com
X-WR-CALDESC:Events for Tobacco Free Amarillo
BEGIN:VEVENT
DTSTART;TZID=America/Chicago:20171011T173000
DTEND;TZID=America/Chicago:20171011T190000
DTSTAMP:20260424T151012
CREATED:20170424T170613Z
LAST-MODIFIED:20170516T160258Z
UID:2041-1507743000-1507748400@www.tobaccofreeamarillo.com
SUMMARY:TOBACCO / SMOKING CESSATION PROGRAM
DESCRIPTION: \nFREE NICOTINE REPLACEMENT PRODUCTS – when you complete two 90 minute TOBACCO CESSATION Classes. Reservations are not necessary\, just show up and bring your friends. Classes are opened to the public – they DO NOT have to be J.O. Wyatt Clients. \nYou may come for refresher classes at any time. \n\n\n	Related\n
URL:https://www.tobaccofreeamarillo.com/event/tobacco-smoking-cessation-program-26/
LOCATION:1411 Amarillo Blvd.\, Amarillo\, TX\, 79107\, United States
END:VEVENT
END:VCALENDAR