BEGIN:VCALENDAR
VERSION:2.0
PRODID:-//Tobacco Free Amarillo - ECPv4.6.11.1//NONSGML v1.0//EN
CALSCALE:GREGORIAN
METHOD:PUBLISH
X-WR-CALNAME:Tobacco Free Amarillo
X-ORIGINAL-URL:https://www.tobaccofreeamarillo.com
X-WR-CALDESC:Events for Tobacco Free Amarillo
BEGIN:VEVENT
DTSTART;TZID=America/Chicago:20170322T130000
DTEND;TZID=America/Chicago:20170322T140000
DTSTAMP:20260425T005824
CREATED:20170120T215701Z
LAST-MODIFIED:20170120T215701Z
UID:1982-1490187600-1490191200@www.tobaccofreeamarillo.com
SUMMARY:TOBACCO / SMOKING CESSATION PROGRAM
DESCRIPTION: \nFREE PRODUCTS – when you complete all four TOBACCO CESSATION Classes. Reservations are not necessary\, just show up and bring your friends. Classes are opened to the public – they DO NOT have to be J.O. Wyatt Clients. \nYou may come for refresher classes at any time. \n
URL:https://www.tobaccofreeamarillo.com/event/tobacco-smoking-cessation-program-11/
LOCATION:1411 Amarillo Blvd.\, Amarillo\, TX\, 79107\, United States
END:VEVENT
BEGIN:VEVENT
DTSTART;TZID=America/Chicago:20170322T173000
DTEND;TZID=America/Chicago:20170322T183000
DTSTAMP:20260425T005824
CREATED:20170120T215418Z
LAST-MODIFIED:20170120T215418Z
UID:1980-1490203800-1490207400@www.tobaccofreeamarillo.com
SUMMARY:TOBACCO / SMOKING CESSATION PROGRAM
DESCRIPTION: \nFREE PRODUCTS – when you complete all four TOBACCO CESSATION Classes. Reservations are not necessary\, just show up and bring your friends. Classes are opened to the public – they DO NOT have to be J.O. Wyatt Clients. \nYou may come for refresher classes at any time. \n
URL:https://www.tobaccofreeamarillo.com/event/tobacco-smoking-cessation-program-10/
LOCATION:1411 Amarillo Blvd.\, Amarillo\, TX\, 79107\, United States
END:VEVENT
END:VCALENDAR