BEGIN:VCALENDAR
VERSION:2.0
PRODID:-//Tobacco Free Amarillo - ECPv4.6.11.1//NONSGML v1.0//EN
CALSCALE:GREGORIAN
METHOD:PUBLISH
X-WR-CALNAME:Tobacco Free Amarillo
X-ORIGINAL-URL:https://www.tobaccofreeamarillo.com
X-WR-CALDESC:Events for Tobacco Free Amarillo
BEGIN:VEVENT
DTSTART;TZID=America/Chicago:20180109T130000
DTEND;TZID=America/Chicago:20180109T143000
DTSTAMP:20260424T102122
CREATED:20180105T165955Z
LAST-MODIFIED:20180105T170537Z
UID:2129-1515502800-1515508200@www.tobaccofreeamarillo.com
SUMMARY:TOBACCO / SMOKING CESSATION PROGRAM
DESCRIPTION: \nFREE PRODUCTS – when you complete two 90-minutes TOBACCO CESSATION Classes. Reservations are not necessary\, just show up and bring your friends. Classes are opened to the public. Held at J.O. Wyatt Special Services Classroom. \nYou may come for refresher classes at any time. \n\n  \n
URL:https://www.tobaccofreeamarillo.com/event/tobacco-smoking-cessation-program-21/
LOCATION:1411 Amarillo Blvd.\, Amarillo\, TX\, 79107\, United States
END:VEVENT
END:VCALENDAR