BEGIN:VCALENDAR
VERSION:2.0
PRODID:-//Tobacco Free Amarillo - ECPv4.6.11.1//NONSGML v1.0//EN
CALSCALE:GREGORIAN
METHOD:PUBLISH
X-WR-CALNAME:Tobacco Free Amarillo
X-ORIGINAL-URL:https://www.tobaccofreeamarillo.com
X-WR-CALDESC:Events for Tobacco Free Amarillo
BEGIN:VEVENT
DTSTART;TZID=America/Chicago:20181212T173000
DTEND;TZID=America/Chicago:20181212T190000
DTSTAMP:20260423T191512
CREATED:20180105T190653Z
LAST-MODIFIED:20180105T190653Z
UID:2242-1544635800-1544641200@www.tobaccofreeamarillo.com
SUMMARY:TOBACCO / SMOKING CESSATION PROGRAM
DESCRIPTION: \nFREE PRODUCTS – when you complete two 90-minutes TOBACCO CESSATION Classes. Reservations are not necessary\, just show up and bring your friends. Classes are opened to the public. Held at J.O. Wyatt Special Services Classroom.* \n*Evening attendees must enter the building through the Urgent Care entrance. \nYou may come for refresher classes at any time. \n
URL:https://www.tobaccofreeamarillo.com/event/tobacco-smoking-cessation-program-77/
LOCATION:1411 Amarillo Blvd.\, Amarillo\, TX\, 79107\, United States
END:VEVENT
END:VCALENDAR