BEGIN:VCALENDAR
VERSION:2.0
PRODID:-//Tobacco Free Amarillo - ECPv4.6.11.1//NONSGML v1.0//EN
CALSCALE:GREGORIAN
METHOD:PUBLISH
X-WR-CALNAME:Tobacco Free Amarillo
X-ORIGINAL-URL:https://www.tobaccofreeamarillo.com
X-WR-CALDESC:Events for Tobacco Free Amarillo
BEGIN:VEVENT
DTSTART;TZID=America/Chicago:20200709T110000
DTEND;TZID=America/Chicago:20200709T120000
DTSTAMP:20260422T171902
CREATED:20191218T162517Z
LAST-MODIFIED:20191218T162556Z
UID:3117-1594292400-1594296000@www.tobaccofreeamarillo.com
SUMMARY:FREE Smoking/Tobacco Cessation Classes
DESCRIPTION: \nRHN in partnership with Tobacco Free Amarillo is offering Tobacco Cessation Programs all year long. \nThe program is a series of four\, one-hour classes offered. Pick your quit date and join one of our programs. Must attend all four classes on Thursdays and Fridays for two weeks to receive FREE Nicotine Replacement Therapy products. \nQuestions? Contact Joseph at 374-7341 ext. 2048 \nYou may come for refresher classes at any time. \n
URL:https://www.tobaccofreeamarillo.com/event/3117/
LOCATION:3113 Ross St.\, Amarillo\, TX\, 79103\, United States
END:VEVENT
END:VCALENDAR